BEGIN:VCALENDAR
VERSION:2.0
PRODID:-//wp-events-plugin.com//7.2.3.1//EN
TZID:Europe/Rome
X-WR-TIMEZONE:Europe/Rome
BEGIN:VEVENT
UID:20@arricrea.org
DTSTART;TZID=Europe/Rome:20250601T083000
DTEND;TZID=Europe/Rome:20250914T163000
DTSTAMP:20250827T195725Z
URL:https://arricrea.org/events/arricrea-summer-experience-2025/
SUMMARY:Arricrèa Summer Experience 2025
DESCRIPTION:Anche quest'anno i piccoli soci di Arricrèa possono trascorrer
 e il tempo estivo delle vacanze e vivere esperienze ludico-didattiche con 
 la nostra proposta di iniziative culturali e artistiche in pieno stile Arr
 icrèa\, alternate a momenti di gioco libero e relax.\n\nPer vivere al meg
 lio questo tempo svolgeremo le attività in collaborazione con lo spazio A
 rchiLoft\, beneficiando della loro bellissima sala e del cortile esterno.\
 n\nPROGRAMMA \n\nOgni settimana affronteremo un tema che farà da guida a
  tutte le iniziative e le attività* proposte\, pensate appositamente per 
 coinvolgere e stimolare i bambini allegramente in percorsi strutturati.\n\
 nOgni tema sarà sviluppato alternando attività di:\n\nARTE\nAttività e 
 laboratori manuali e artistici\, scoperta dei grandi pittori\, laboratori 
 teatrali\, giochi a tema e quiz.\nObiettivo: stimolare le proprie capacit
 à artistico-espressive\, acquisire cenni base di storia dell'arte\, speri
 mentare tecniche e materiali diversi.\n\nCULTURA\nLezioni gioco di lingua 
 inglese e spagnolo\, proiezioni di documentari e cartoni educativi\, labor
 atori scientifici ed esperimenti\, musicoterapia e cerchio canto- strument
 ale con insegnanti di musica.\nObiettivo: imparare divertendosi e sperimen
 tando.\n\nBENESSERE E RELAX\nAttività di giardinaggio\, momenti relax e b
 aby yoga\, giochi e attività ludico motorie a squadre.\nObiettivo: prende
 rsi cura del corpo e della mente in allegria.\n\nLe attività saranno prop
 oste in funzione dell'età dei bambini.\n\n*Tutti i laboratori e le attivi
 tà specialistiche sono svolti da insegnanti e artigiani qualificati che c
 ollaborano da sempre con Arricrèa e si prendono cura i nostri piccoli soc
 i.\n\n&nbsp\;\n\nGiornata tipo:\n\n- 8.30/9.00 accoglienza bambini e gioco
  libero\n\n- 9.00/10.30 attività specialistiche (a rotazione tra arte\, c
 ultura e benessere relax)\n\n- 10.30 merenda offerta da noi\n\n- 11.00/12.
 30 attività ricreative libere con colori e giochi messi a disposizione\n\
 n- 12.30/13.30 pranzo* e rassetto\n\n- 13.30/14.00 gioco libero\n\n- 14.00
 /15.30 proiezione documentario con gioco quiz e confronto didattico oppure
  laboratorio\n\n- 15.30/16.00 ballo e musica o gioco libero\n\n- 16.00/16.
 30 preparazione all'uscita\n\nInviteremo le eccellenze del quartiere per d
 ei laboratori dedicati ai nostri ospiti ad esempio: Lab di Gelato con Crio
 llo gourmet\, Baby Yoga con le insegnanti di Argilla Pilates\, letture ani
 mate\, maghi e animazioni in collaborazione con Archiloft.\n\n-*- Pranzo\n
 \nSarà possibile ordinare il pranzo a sacco al costo di 8 euro per la Sum
 mer di Giugno e Luglio.\nIl servizio pasti non sarà disponibile invece pe
 r la Summer delle due settimane settembrine.\n\nArricrèa si avvarrà dell
 e diverse attività di ristorazione del quartiere. Il pranzo si intenderà
  composto da un primo\, secondo e contorno o diversamente da panino e cont
 orno e/o frutta.\n\nSegnaliamo che il servizio sarà attivato con una rich
 iesta minima di partecipanti.\nSarà dunque importante esprimere la vostra
  intenzione ad usufruirne già in fase di prenotazione o comunque entro la
  settimana precedente a quella interessata.\nIl venerdì precedente alla s
 ettimana in oggetto\, sarà data conferma dell'attivazione o meno del serv
 izio e solo allora si farà richiesta di pagamento per quest'ultimo.\n\n&n
 bsp\;\n\n&nbsp\;\n\nTema principe dell'Arricrèa Summer Experience di ques
 t'anno sarà: Sentimenti e valori.\n\nUn viaggio tra emozioni\, scoperte e
  relazioni autentiche.\n\nOgni settimana il nostro centro estivo accompagn
 erà bambine e bambini dai 3 ai 10 anni in un’avventura unica\, dedicata
  a un sentimento o a un valore fondamentale per crescere insieme in armoni
 a: dall’inclusione alla gentilezza\, dal coraggio alla gratitudine\, pas
 sando per il rispetto della natura\, la meraviglia e l’amicizia.\n\nAttr
 averso giochi\, laboratori creativi\, attività all’aperto e momenti di 
 condivisione\, coltiveremo con i piccoli partecipanti le competenze emotiv
 e e relazionali che li aiuteranno a conoscere meglio sé stessi e il mondo
  che li circonda.\n\nUn’estate per divertirsi\, emozionarsi e imparare
 … col cuore!\n\nEcco il dettaglio delle settimane \n\n 	(9 - 13 Giugno)
  L’Inclusione – I Colori dell’Arcobaleno\nValore: accoglienza\, dive
 rsità\, collaborazione\n\nAttività: giochi di squadra\, laboratori sui c
 olori e le differenze\, storie di amicizia tra personaggi diversi.\n\n&nbs
 p\;\n\n 	(16 - 20 Giugno) Il Rispetto per la Natura – Il Nostro Pianeta\
 nValore: cura\, responsabilità\, amore per l’ambiente\n\nAttività: lab
 oratori di riciclo creativo\, esplorazioni nel verde\, costruzione di picc
 oli orti o giardini.\n\n&nbsp\;\n\n 	(23 - 27 Giugno) La Meraviglia – St
 elle\, Galassie e Spazio\nValore: immaginazione\, curiosità\, apertura me
 ntale\n\nAttività: creazione di costellazioni con materiali artistici\, s
 torie spaziali\, razzi e pianeti di cartone.\n\n&nbsp\;\n\n 	(30 - 4 Lugli
 o) La Gentilezza – Il Giardino delle Emozioni\nValore: empatia\, rispett
 o\, ascolto\n\nAttività: teatro delle emozioni\, costruzione di fiori del
 la gentilezza\, barattolo dei pensieri belli.\n\n&nbsp\;\n\n 	(7 - 11 Lugl
 io) Il Coraggio – La Foresta delle Avventure\nValore: fiducia in sé ste
 ssi\, superamento delle paure\n\nAttività: percorsi a ostacoli\, racconti
  di piccoli eroi\, costruzione di totem o scudi del coraggio.\n\n&nbsp\;\n
 \n 	(14 - 18 Luglio) L’Amicizia – Il Villaggio dei Cuori\nValore: lega
 me\, condivisione\, gioco\n\nAttività: creazione di una “casa comune”
  con materiali di recupero\, giochi cooperativi\, ritratto del mio amico.\
 n\n&nbsp\;\n\n7. (21 - 25 Luglio) La Gratitudine - Il Sole che scalda\n  
            Valore: imparare a riconoscere e apprezzare il positivo n
 ella vita quotidiana.\nAttività: Il Barattolo della Gratitudine\, giochi 
 e attività che spingono a riflettere intorno alle cose di cui siamo grati
 .\n&nbsp\;\n\n8. (28 Luglio - 01 Agosto) La cooperazione: insieme è megli
 o!\nValore: riconoscersi come parte di un gruppo\, superare i proprio indi
 vidualismi.\n\nAttività: Realizzazione di sculture e racconti cooperativi
 .\n\n\nLe settimane di Settembre sono ancora in fase di definizione.\n\n&n
 bsp\;\n\nCONTRIBUTO ASSOCIATIVO\n\n1 settimana tempo pieno (8.30-16.30) 10
 0€ a bambino.\n\nGiornaliero 35€ con prenotazione\n\nSconto fratelli 2
 0% sulla quota settimanale del fratello\n\n&nbsp\;\n\nSEGNALAZIONE IMPORTA
 NTE\n\nIl servizio è riservato ai bambini e le bambine soci dell’Associ
 azione Culturale Arricrèa APS ed è a numero limitato.\n\nL’accesso e l
 ’iscrizione è subordinata a prenotazione che deve essere accettata dall
 ’Associazione con relativo modulo firmato fornito in fase di prenotazion
 e. (Scarica qui il modulo iscrizione summer experience 2025 da firmare e c
 onsegnare all'associazione prima del periodo d'inizio della propria prenot
 azione).\n\nPer garantire il benessere e la sicurezza di tutti i partecipa
 nti\, vi chiediamo\, in fase di iscrizione\, di condividere con noi eventu
 ali bisogni educativi\, comportamentali o sanitari specifici che riguardan
 o il/la bambino/a.\n\nL’associazione si riserva di valutare la compatibi
 lità della partecipazione in base alle caratteristiche del servizio\, deg
 li spazi e dell’organizzazione.\n\nSi richiede Pagamento del contributo 
 associativo anticipato e non potrà essere in alcun caso rimborsato.\n\nR
 icordiamo che il contributo comprende l’intrattenimento\, la partecipazi
 one ai corsi e laboratori con personale esterno qualificato\, una merenda 
 al mattino\, tutti i materiali utilizzati durante il corso delle giornate.
  Comprende altresì eventuali attrazioni a tema che possono essere di volt
 a in volta inserite nel programma delle giornate.\n\nIl contributo non com
 prende il pranzo.\n\nPER PRENOTAZIONI e ISCRIZIONI\n\nPer iscriversi e ris
 ervare il proprio posto è prevista la registrazione tramite il seguente m
 odulo di prenotazione e  il contatto ad arricrea@gmail.com\n\nSi potrà p
 rovvedere al versamento del contributo associativo al laboratorio attraver
 so le seguenti modalità:\n\na) Pagamento in contanti\;\nb) Pagamento con 
 carta\;\nc) Bonifico\nIntestato a: Arricrea ETS\nIban IT43G053870326600000
 4465589\nIndicare nella causale il nome e cognome del partecipante\, inolt
 re titolo e data del laboratorio cui ci si iscrive.\n\nImportante:Se il ba
 mbino non è già socio di Arricrèa\, contestualmente alla prenotazione b
 isogna procedere al tesseramento.Aggiungere quindi al contributo associati
 vo i 10€ richiesti dal tesseramento.Fornire la propria email o recapito 
 cellulare per ricevere la modulistica necessaria a formalizzare l'iscrizio
 ne e il tesseramento.La tessera ha validità fino al 31.12.25 e consente l
 a partecipazione a tutte le attività dell'associazione dal momento della 
 sottoscrizione.Per qualsiasi informazione potete contattarci alla mail arr
 icrea@gmail.com
ATTACH;FMTTYPE=image/jpeg:https://i0.wp.com/arricrea.org/wp-content/upload
 s/2025/04/Summer-experience-2025-Wordpress.png?fit=1120%2C1120&ssl=1
CATEGORIES:Eventi per Bambini
LOCATION:Arricrea c/o Archiloft\, Via Luca Valerio\, 37\, Roma\, RM\, 00146
 \, Lazio\, Italia
X-APPLE-STRUCTURED-LOCATION;VALUE=URI;X-ADDRESS=Via Luca Valerio\, 37\, Rom
 a\, RM\, 00146\, Lazio\, Italia;X-APPLE-RADIUS=100;X-TITLE=Arricrea c/o Ar
 chiloft:geo:0,0
END:VEVENT
BEGIN:VTIMEZONE
TZID:Europe/Rome
X-LIC-LOCATION:Europe/Rome
BEGIN:DAYLIGHT
DTSTART:20250330T030000
TZOFFSETFROM:+0100
TZOFFSETTO:+0200
TZNAME:CEST
END:DAYLIGHT
END:VTIMEZONE
END:VCALENDAR